BEGIN:VCALENDAR
VERSION:2.0
CALSCALE:GREGORIAN
PRODID:adamgibbons/ics
METHOD:PUBLISH
X-PUBLISHED-TTL:PT1H
BEGIN:VEVENT
UID:11@lugo.acontece.gal
SUMMARY:Proxección "A terra por gañar"
DTSTAMP:20260425T140335Z
DTSTART:20260508T183000Z
DTEND:20260508T203000Z
URL:https://lugo.acontece.gal/event/proxeccion-a-terra-por-ganar
LOCATION:Rábade - Casa das Ínsuas
STATUS:CONFIRMED
CATEGORIES:Activismo,Documental,Ecoloxía,Historia,Palestra,Proxección,Rábad
	e
END:VEVENT
END:VCALENDAR
