BEGIN:VCALENDAR
VERSION:2.0
CALSCALE:GREGORIAN
PRODID:adamgibbons/ics
METHOD:PUBLISH
X-PUBLISHED-TTL:PT1H
BEGIN:VEVENT
UID:9@lugo.acontece.gal
SUMMARY:Concentración transfuguismo non\, democracia si
DTSTAMP:20260425T125543Z
DTSTART:20260424T170000Z
DTEND:20260424T173000Z
DESCRIPTION:❌ NON AO TRANSFUGUISMO\n\n✅ SI Á DEMOCRACIA\n\n📍 DIANTE DO CONC
	ELLO (PRAZA MAIOR)\n\n🕖 VENRES\, 24 DE ABRIL ás 19:00 horas\n\n✊ A TÚA PRE
	SENZA CONTA: DIFUNDE E PARTICIPA!\n\n⬇️\n\nNos últimos meses producíronse n
	o Concello de Lugo unha serie de acontecementos\nprotagonizados pola edil 
	Maria Reigosa que xeraron preocupación e malestar entre\ngran parte da cid
	adanía.\n\nA posible presentación dunha moción de censura apoiada nunha tr
	ansfuga suscita\nun debate lexítimo sobre os límites éticos e políticos de
	ste tipo de accións.\nMoitas veciñas e veciños sentimos a necesidade de ex
	presar\, de maneira serena\, o\nnoso desacordo con prácticas que poden afa
	starse do espírito de representación\nco que foron emitidos os votos nas u
	rnas.\n\nEsta iniciativa cidadá nace co obxectivo de dar voz a quen desexe
	 manifestar o\nseu compromiso cunha política baseada na coherencia\, na tr
	ansparencia e no\nrespecto á vontade popular. Non se trata de confrontar\,
	 senón de reivindicar\nunha forma de facer política que fortaleza a confia
	nza da cidadanía nas\ninstitucións.\n\nSE COMPARTES ESTA REFLEXIÓN\, CONVI
	DÁMOSTE A APOIAR ESTA CONVOCATORIA! 💪\n\n
URL:https://lugo.acontece.gal/event/concentracion-transfuguismo-non-democra
	cia-si
GEO:43.0095;-7.55673
LOCATION:Praza Maior\, Lugo - Praza Maior\, Casco Vello\, Lugo\, Galicia
STATUS:CONFIRMED
CATEGORIES:
X-ALT-DESC;FMTTYPE=text/html:<p>❌ NON AO TRANSFUGUISMO</p><p>✅ SI Á DEMOCRA
	CIA</p><p>📍 DIANTE DO CONCELLO (PRAZA MAIOR)</p><p>🕖 VENRES, 24 DE ABRIL á
	s 19:00 horas</p><p>✊ A TÚA PRESENZA CONTA: DIFUNDE E PARTICIPA!</p><p>⬇️</
	p><p>Nos últimos meses producíronse no Concello de Lugo unha serie de acon
	tecementos protagonizados pola edil Maria Reigosa que xeraron preocupación
	 e malestar entre gran parte da cidadanía.</p><p>A posible presentación du
	nha moción de censura apoiada nunha transfuga suscita un debate lexítimo s
	obre os límites éticos e políticos deste tipo de accións. Moitas veciñas e
	 veciños sentimos a necesidade de expresar, de maneira serena, o noso desa
	cordo con prácticas que poden afastarse do espírito de representación co q
	ue foron emitidos os votos nas urnas.</p><p>Esta iniciativa cidadá nace co
	 obxectivo de dar voz a quen desexe manifestar o seu compromiso cunha polí
	tica baseada na coherencia, na transparencia e no respecto á vontade popul
	ar. Non se trata de confrontar, senón de reivindicar unha forma de facer p
	olítica que fortaleza a confianza da cidadanía nas institucións.</p><p>SE 
	COMPARTES ESTA REFLEXIÓN, CONVIDÁMOSTE A APOIAR ESTA CONVOCATORIA! 💪</p><p
	></p>
BEGIN:VALARM
ACTION:DISPLAY
DESCRIPTION:Concentración transfuguismo non, democracia si
TRIGGER:-PT1H
END:VALARM
END:VEVENT
END:VCALENDAR
