BEGIN:VCALENDAR
VERSION:2.0
CALSCALE:GREGORIAN
PRODID:adamgibbons/ics
METHOD:PUBLISH
X-PUBLISHED-TTL:PT1H
BEGIN:VEVENT
UID:5@lugo.acontece.gal
SUMMARY:Concentración contra a guerra imperialista
DTSTAMP:20260425T163250Z
DTSTART:20260303T190000Z
DESCRIPTION:Non á guerra imperialista! Convoca: Galiza pola Paz
URL:https://lugo.acontece.gal/event/concentracion-contra-a-guerra-imperiali
	sta
GEO:43.0095;-7.55673
LOCATION:Praza Maior\, Lugo - Praza Maior\, Casco Vello\, Lugo\, Galicia
STATUS:CONFIRMED
CATEGORIES:antiimperialismo,concentración,lugo
X-ALT-DESC;FMTTYPE=text/html:Non á guerra imperialista! Convoca: Galiza pol
	a Paz
BEGIN:VALARM
ACTION:DISPLAY
DESCRIPTION:Concentración contra a guerra imperialista
TRIGGER:-PT1H
END:VALARM
END:VEVENT
END:VCALENDAR
